BEGIN:VCALENDAR
VERSION:2.0
PRODID:-//www.zaeziwil.ch//NONSGML kigkonsult.se ICALCREATOR_VERSION//
CALSCALE:GREGORIAN
METHOD:PUBLISH
X-WR-TIMEZONE','EUROPE/BERLIN:
BEGIN:VEVENT
UID:20260424T142843CEST-0136Dp4jxw@www.zaeziwil.ch
DTSTAMP:20260424T122843Z
DESCRIPTION:Klicken Sie auf den folgenden Link\, um weitere Informationen z
 ur Veranstaltung zu erhalten:\nhttp://www.zaeziwil.ch/de/veranstaltungen/d
 etail/detail.php?i=769
DTSTART:20260501T180000
DTEND:20260501T220000
LOCATION:Jugendraum Zäziwil
SUMMARY:Quizz Night im Jugendraum - Kinder- und Jugendfachstelle Region Kon
 olfingen
END:VEVENT
END:VCALENDAR
